BEGIN:VCALENDAR
VERSION:2.0
PRODID:-//Église orthodoxe de La Résurrection Nantes – Archevêché des églises orthodoxes de tradition russe en Europe occidentale -Patriarcat de Moscou - ECPv6.15.20//NONSGML v1.0//EN
CALSCALE:GREGORIAN
METHOD:PUBLISH
X-ORIGINAL-URL:https://eglise-orthodoxe-nantes.fr
X-WR-CALDESC:Évènements pour Église orthodoxe de La Résurrection Nantes – Archevêché des églises orthodoxes de tradition russe en Europe occidentale -Patriarcat de Moscou
REFRESH-INTERVAL;VALUE=DURATION:PT1H
X-Robots-Tag:noindex
X-PUBLISHED-TTL:PT1H
BEGIN:VTIMEZONE
TZID:Europe/Paris
BEGIN:DAYLIGHT
TZOFFSETFROM:+0100
TZOFFSETTO:+0200
TZNAME:CEST
DTSTART:20250330T010000
END:DAYLIGHT
BEGIN:STANDARD
TZOFFSETFROM:+0200
TZOFFSETTO:+0100
TZNAME:CET
DTSTART:20251026T010000
END:STANDARD
BEGIN:DAYLIGHT
TZOFFSETFROM:+0100
TZOFFSETTO:+0200
TZNAME:CEST
DTSTART:20260329T010000
END:DAYLIGHT
BEGIN:STANDARD
TZOFFSETFROM:+0200
TZOFFSETTO:+0100
TZNAME:CET
DTSTART:20261025T010000
END:STANDARD
BEGIN:DAYLIGHT
TZOFFSETFROM:+0100
TZOFFSETTO:+0200
TZNAME:CEST
DTSTART:20270328T010000
END:DAYLIGHT
BEGIN:STANDARD
TZOFFSETFROM:+0200
TZOFFSETTO:+0100
TZNAME:CET
DTSTART:20271031T010000
END:STANDARD
END:VTIMEZONE
BEGIN:VEVENT
DTSTART;TZID=Europe/Paris:20260906T090000
DTEND;TZID=Europe/Paris:20260906T150000
DTSTAMP:20260422T035404
CREATED:20260420T182402Z
LAST-MODIFIED:20260420T182402Z
UID:1731-1788685200-1788706800@eglise-orthodoxe-nantes.fr
SUMMARY:Dimanche 6 septembre Воскресенье 6 сентября
DESCRIPTION:Dimanche 6 septembre Воскресенье\, 6 сентября \nNativité de La Mère de Dieu et bénédiction des écoliers \nPoждеcтвo Бoгoрoдицы- после литургии благословление школьников и студентов \n8h30 installation de l’église avec Père Emmanuel et Père Syméon\, merci à toutes les personnes qui pourront venir aider\, merci à celles qui apporteront des fleurs. 8.30 утра Установка церкви с отцом Эммануилом\, спасибо всем\, кто может прийти и помочь\, спасибо тем\, кто принесет цветы. \n\n9h30 – 10h15 Confession – исповедь\n10h30 Divine Liturgie suivie d’agapes fraternelles\, chacun apporte un peu pour tous.\n10. 30 Божественная литургия\, за которой следуют братские трапезы\, каждый приносит немного для всех.\n\n 
URL:https://eglise-orthodoxe-nantes.fr/event/dimanche-6-septembre-%d0%b2%d0%be%d1%81%d0%ba%d1%80%d0%b5%d1%81%d0%b5%d0%bd%d1%8c%d0%b5-6-%d1%81%d0%b5%d0%bd%d1%82%d1%8f%d0%b1%d1%80%d1%8f/
LOCATION:Chapelle St Jean Bosco Nantes\, 17 Rue du Moulin des Carmes\, Nantes\, 44300\, France
CATEGORIES:Agenda liturgique
END:VEVENT
END:VCALENDAR