BEGIN:VCALENDAR
VERSION:2.0
PRODID:-//Église orthodoxe de La Résurrection Nantes – Archevêché des églises orthodoxes de tradition russe en Europe occidentale -Patriarcat de Moscou - ECPv6.15.20//NONSGML v1.0//EN
CALSCALE:GREGORIAN
METHOD:PUBLISH
X-ORIGINAL-URL:https://eglise-orthodoxe-nantes.fr
X-WR-CALDESC:Évènements pour Église orthodoxe de La Résurrection Nantes – Archevêché des églises orthodoxes de tradition russe en Europe occidentale -Patriarcat de Moscou
REFRESH-INTERVAL;VALUE=DURATION:PT1H
X-Robots-Tag:noindex
X-PUBLISHED-TTL:PT1H
BEGIN:VTIMEZONE
TZID:Europe/Paris
BEGIN:DAYLIGHT
TZOFFSETFROM:+0100
TZOFFSETTO:+0200
TZNAME:CEST
DTSTART:20250330T010000
END:DAYLIGHT
BEGIN:STANDARD
TZOFFSETFROM:+0200
TZOFFSETTO:+0100
TZNAME:CET
DTSTART:20251026T010000
END:STANDARD
BEGIN:DAYLIGHT
TZOFFSETFROM:+0100
TZOFFSETTO:+0200
TZNAME:CEST
DTSTART:20260329T010000
END:DAYLIGHT
BEGIN:STANDARD
TZOFFSETFROM:+0200
TZOFFSETTO:+0100
TZNAME:CET
DTSTART:20261025T010000
END:STANDARD
BEGIN:DAYLIGHT
TZOFFSETFROM:+0100
TZOFFSETTO:+0200
TZNAME:CEST
DTSTART:20270328T010000
END:DAYLIGHT
BEGIN:STANDARD
TZOFFSETFROM:+0200
TZOFFSETTO:+0100
TZNAME:CET
DTSTART:20271031T010000
END:STANDARD
END:VTIMEZONE
BEGIN:VEVENT
DTSTART;TZID=Europe/Paris:20260320T190000
DTEND;TZID=Europe/Paris:20260320T203000
DTSTAMP:20260421T223004
CREATED:20260202T142441Z
LAST-MODIFIED:20260316T155643Z
UID:1220-1774033200-1774038600@eglise-orthodoxe-nantes.fr
SUMMARY:Vendredi 20 Mars- Пятница 20марта
DESCRIPTION:Vendredi 20 Mars- Пятница 20марта \n18h00 installation de l’église  18:00 установка церкви\n19h vêpres et liturgie des présanctifiés – Les mercredis et vendredis (et certains jours fériés) pendant tout le Grand Carême\, la liturgie des Dons Présanctifiés est célébrée. Le nom de Liturgie des Dons Présanctifiés fait référence à la Liturgie dans laquelle les Saints Dons\, préalablement consacrés lors de la Liturgie plénière précédente et conservés sur la Sainte Table du tabernacle\, sont offerts aux fidèles. La réception des Dons Présanctifiés au cours du Service Divin\, qui étaient conservés dans l’église\, remonte à l’époque des apôtres. \n19 :00. Вечерняя и литургия Преждеосвященных Даров. Под названием Литургии Преждеосвященных Даров разумеется Литургия\, на которой верующим предлагаются Святые Дары\, освященные прежде на предшествовавшей полной Литургии и сохранявшиеся на святом Престоле в дарохранительнице. Причащение за богослужением Преждеосвященными Дарами\, сохранявшимися в храме\, восходит ко временам апостольским. \nPour en savoir Plus: https://eglise-orthodoxe-nantes.fr/liturgie-des-dons-presanctifies/
URL:https://eglise-orthodoxe-nantes.fr/event/vendredi-20-mars-%d0%bf%d1%8f%d1%82%d0%bd%d0%b8%d1%86%d0%b0-20-%d0%bc%d0%b0%d1%80%d1%82%d0%b0-%d0%bf%d1%8f%d1%82%d0%bd%d0%b8%d1%86%d0%b0-20%d0%bc%d0%b0%d1%80%d1%82%d0%b0/
LOCATION:Chapelle St Jean Bosco Nantes\, 17 Rue du Moulin des Carmes\, Nantes\, 44300\, France
CATEGORIES:Agenda liturgique
END:VEVENT
END:VCALENDAR