BEGIN:VCALENDAR
VERSION:2.0
PRODID:-//Église orthodoxe de La Résurrection Nantes – Archevêché des églises orthodoxes de tradition russe en Europe occidentale -Patriarcat de Moscou - ECPv6.15.20//NONSGML v1.0//EN
CALSCALE:GREGORIAN
METHOD:PUBLISH
X-ORIGINAL-URL:https://eglise-orthodoxe-nantes.fr
X-WR-CALDESC:Évènements pour Église orthodoxe de La Résurrection Nantes – Archevêché des églises orthodoxes de tradition russe en Europe occidentale -Patriarcat de Moscou
REFRESH-INTERVAL;VALUE=DURATION:PT1H
X-Robots-Tag:noindex
X-PUBLISHED-TTL:PT1H
BEGIN:VTIMEZONE
TZID:Europe/Paris
BEGIN:DAYLIGHT
TZOFFSETFROM:+0100
TZOFFSETTO:+0200
TZNAME:CEST
DTSTART:20250330T010000
END:DAYLIGHT
BEGIN:STANDARD
TZOFFSETFROM:+0200
TZOFFSETTO:+0100
TZNAME:CET
DTSTART:20251026T010000
END:STANDARD
BEGIN:DAYLIGHT
TZOFFSETFROM:+0100
TZOFFSETTO:+0200
TZNAME:CEST
DTSTART:20260329T010000
END:DAYLIGHT
BEGIN:STANDARD
TZOFFSETFROM:+0200
TZOFFSETTO:+0100
TZNAME:CET
DTSTART:20261025T010000
END:STANDARD
BEGIN:DAYLIGHT
TZOFFSETFROM:+0100
TZOFFSETTO:+0200
TZNAME:CEST
DTSTART:20270328T010000
END:DAYLIGHT
BEGIN:STANDARD
TZOFFSETFROM:+0200
TZOFFSETTO:+0100
TZNAME:CET
DTSTART:20271031T010000
END:STANDARD
END:VTIMEZONE
BEGIN:VEVENT
DTSTART;TZID=Europe/Paris:20260325T080000
DTEND;TZID=Europe/Paris:20260325T170000
DTSTAMP:20260421T222403
CREATED:20260202T143106Z
LAST-MODIFIED:20260202T143106Z
UID:1223-1774425600-1774458000@eglise-orthodoxe-nantes.fr
SUMMARY:Annonciation 25 mars- PAS de liturgie
DESCRIPTION:Annonciation de la Très Sainte Mère de Dieu Mercredi 25 mars – ( selon le calendrier grégorien ) PAS de liturgie\n(БЛАГОВЕЩЕНИЕ ПРЕСВЯТОЙ БОГОРОДИЦЫ- Среда 25 марта)-( по нов. стиле)-Нет литургии
URL:https://eglise-orthodoxe-nantes.fr/event/annonciation-25-mars-pas-de-liturgie/
CATEGORIES:Agenda liturgique
END:VEVENT
END:VCALENDAR