BEGIN:VCALENDAR
VERSION:2.0
PRODID:-//Église orthodoxe de La Résurrection Nantes – Archevêché des églises orthodoxes de tradition russe en Europe occidentale -Patriarcat de Moscou - ECPv6.15.20//NONSGML v1.0//EN
CALSCALE:GREGORIAN
METHOD:PUBLISH
X-ORIGINAL-URL:https://eglise-orthodoxe-nantes.fr
X-WR-CALDESC:Évènements pour Église orthodoxe de La Résurrection Nantes – Archevêché des églises orthodoxes de tradition russe en Europe occidentale -Patriarcat de Moscou
REFRESH-INTERVAL;VALUE=DURATION:PT1H
X-Robots-Tag:noindex
X-PUBLISHED-TTL:PT1H
BEGIN:VTIMEZONE
TZID:Europe/Paris
BEGIN:DAYLIGHT
TZOFFSETFROM:+0100
TZOFFSETTO:+0200
TZNAME:CEST
DTSTART:20250330T010000
END:DAYLIGHT
BEGIN:STANDARD
TZOFFSETFROM:+0200
TZOFFSETTO:+0100
TZNAME:CET
DTSTART:20251026T010000
END:STANDARD
BEGIN:DAYLIGHT
TZOFFSETFROM:+0100
TZOFFSETTO:+0200
TZNAME:CEST
DTSTART:20260329T010000
END:DAYLIGHT
BEGIN:STANDARD
TZOFFSETFROM:+0200
TZOFFSETTO:+0100
TZNAME:CET
DTSTART:20261025T010000
END:STANDARD
BEGIN:DAYLIGHT
TZOFFSETFROM:+0100
TZOFFSETTO:+0200
TZNAME:CEST
DTSTART:20270328T010000
END:DAYLIGHT
BEGIN:STANDARD
TZOFFSETFROM:+0200
TZOFFSETTO:+0100
TZNAME:CET
DTSTART:20271031T010000
END:STANDARD
END:VTIMEZONE
BEGIN:VEVENT
DTSTART;TZID=Europe/Paris:20260405T093000
DTEND;TZID=Europe/Paris:20260405T130000
DTSTAMP:20260421T202935
CREATED:20260202T144646Z
LAST-MODIFIED:20260328T155420Z
UID:1227-1775381400-1775394000@eglise-orthodoxe-nantes.fr
SUMMARY:Dimanche 5 Avril- Воскресенье 5 апреля
DESCRIPTION:Dimanche 5 Avril- Воскресенье 5 апреля \nATTENTION nos frères catholiques célébrant Pâques à St Jean Bosco\, ils nous prêtent fraternellement l’Église St Bernard- 2 avenue Abel Gance 44300 Nantes ou la liturgie aura lieu exceptionnellement. Un grand merci pour leur accueil! \nВНИМАНИЕ: Наши католические братья и сестры\, отмечающие Пасху в церкви Святого Иоанна Боско\, любезно предоставили нам в пользование церковь Святого Бернарда – авеню Абель Ганс\, 2\, 44300 Нант\, – где в исключительных случаях будет совершена литургия. Большое спасибо за гостеприимство. \nDimanche 5 Avril- Воскресенье 5 апреля_ \n \nDimanche des Rameaux- Entrée à Jérusalem- Вербное воскресенье\, Вход Господень в Иерусалим. \nVeuillez emmener des branches de buis\, de romarin\, d’olivier. \nПожалуйста\, принесите ветки самшита\, розмарина и оливы. \n8h30 installation de l’église St BERNARD avec Père Syméon\, merci à toutes les personnes qui pourront venir aider\, merci à celles qui apporteront des palmes. 8.30 утра Установка церкви с отцом Эммануилом\, спасибо всем\, кто может прийти и помочь\, спасибо тем\, кто принесет цветы. \n\n9h30 – 10h15 Confession – исповедь\n10h30 Divine Liturgie suivie d’agapes fraternelles\, chacun apporte un peu pour tous.\n10. 30 Божественная литургия\, за которой следуют братские трапезы\, каждый приносит немного для всех.\n\nLecture de l’épître du saint apôtre Paul aux Philippiens (du jour) (Ph IV\,4-9)\nFrères\, réjouissez-vous dans le Seigneur en tout temps ; je vous le répète\, réjouissez-vous. Que votre bienveillance soit connue de tous les hommes. Le Seigneur est proche. N’entretenez aucun souci\, mais en toute circonstance exposez vos requêtes à Dieu\, recourant à la prière et l’oraison\, dans l’action de grâces. Alors la paix de Dieu\, qui surpasse tout esprit\, prendra sous sa garde vos cœurs et vos pensées dans le Christ Jésus.\nEn conclusion\, mes frères\, tout ce qu’il y a de vrai et de noble\, tout ce qu’il y a de juste et de pur\, tout ce qui est digne d’être aimé et d’être honoré\, tout ce qui s’appelle vertu et qui mérite des éloges\, voilà ce dont il faut vous préoccuper. Ce que vous avez appris et reçu\, ce que vous avez vu et entendu de moi\, mettez-le en pratique. Alors le Dieu de la paix sera avec vous. \nLecture de l’Évangile selon saint Jean (du jour) (Jn XII\,1-18)\nSix jours avant la Pâque\, Jésus arriva à Béthanie\, où était Lazare\, qu’il avait ressuscité des morts. Là\, on lui fit un souper ; Marthe servait\, et Lazare était un de ceux qui se trouvaient à table avec lui. Marie\, ayant pris une livre d’un parfum de nard pur de grand prix\, oignit les pieds de Jésus\, et elle lui essuya les pieds avec ses cheveux ; et la maison fut remplie de l’odeur du parfum. Un de ses disciples\, Judas  des\, fils de Simon\, celui qui devait le livrer\, dit : « Pourquoi n’a-t-on pas vendu ce parfum trois cent deniers\, pour les donner aux pauvres ? » Il disait cela\, non qu’il se mît en peine des pauvres\, mais parce qu’il était voleur\, et que\, tenant la bourse\, il prenait ce qu’on y mettait. Mais Jésus dit : « Laisse-la garder ce parfum pour le jour de ma sépulture. Vous avez toujours les pauvres avec vous\, mais vous ne m’avez pas toujours ». Une grande multitude de Juifs apprirent que Jésus était à Béthanie ; et ils y vinrent\, non pas seulement à cause de lui\, mais aussi pour voir Lazare\, qu’il avait ressuscité des morts. Les principaux sacrificateurs délibérèrent de faire mourir aussi Lazare\, parce que beaucoup de Juifs se retiraient d’eux à cause de lui\, et croyaient en Jésus.\nLe lendemain\, une foule nombreuse de gens venus à la fête ayant entendu dire que Jésus se rendait à Jérusalem\, prirent des branches de palmiers\, et allèrent au-devant de lui\, en criant : « Hosanna ! Béni soit celui qui vient au nom du Seigneur\, le roi d’Israël ! » Jésus trouva un ânon\, et s’assit dessus\, selon ce qui est écrit : « Ne crains point\, fille de Sion ; voici\, ton roi vient\, assis sur le petit d’une ânesse. » Ses disciples ne comprirent pas d’abord ces choses ; mais\, lorsque Jésus eut été glorifié\, ils se souvinrent qu’elles étaient écrites de lui\, et qu’il les avaient été accomplies à son égard. Tous ceux qui étaient avec Jésus\, quand il appela Lazare du sépulcre et le ressuscita des morts\, lui rendaient témoignage ; et la foule vint au-devant de lui\, parce qu’elle avait appris qu’il avait fait ce miracle. \n 
URL:https://eglise-orthodoxe-nantes.fr/event/dimanche-5-avril-%d0%b2%d0%be%d1%81%d0%ba%d1%80%d0%b5%d1%81%d0%b5%d0%bd%d1%8c%d0%b5-5-%d0%b0%d0%bf%d1%80%d0%b5%d0%bb%d1%8f/
LOCATION:Eglise St Bernard\, 2 Rue Abel Gance\, Nantes\, 44300\, France
CATEGORIES:Agenda liturgique
END:VEVENT
END:VCALENDAR