BEGIN:VCALENDAR
VERSION:2.0
PRODID:-//Église orthodoxe de La Résurrection Nantes – Archevêché des églises orthodoxes de tradition russe en Europe occidentale -Patriarcat de Moscou - ECPv6.15.20//NONSGML v1.0//EN
CALSCALE:GREGORIAN
METHOD:PUBLISH
X-ORIGINAL-URL:https://eglise-orthodoxe-nantes.fr
X-WR-CALDESC:Évènements pour Église orthodoxe de La Résurrection Nantes – Archevêché des églises orthodoxes de tradition russe en Europe occidentale -Patriarcat de Moscou
REFRESH-INTERVAL;VALUE=DURATION:PT1H
X-Robots-Tag:noindex
X-PUBLISHED-TTL:PT1H
BEGIN:VTIMEZONE
TZID:Europe/Paris
BEGIN:DAYLIGHT
TZOFFSETFROM:+0100
TZOFFSETTO:+0200
TZNAME:CEST
DTSTART:20250330T010000
END:DAYLIGHT
BEGIN:STANDARD
TZOFFSETFROM:+0200
TZOFFSETTO:+0100
TZNAME:CET
DTSTART:20251026T010000
END:STANDARD
BEGIN:DAYLIGHT
TZOFFSETFROM:+0100
TZOFFSETTO:+0200
TZNAME:CEST
DTSTART:20260329T010000
END:DAYLIGHT
BEGIN:STANDARD
TZOFFSETFROM:+0200
TZOFFSETTO:+0100
TZNAME:CET
DTSTART:20261025T010000
END:STANDARD
BEGIN:DAYLIGHT
TZOFFSETFROM:+0100
TZOFFSETTO:+0200
TZNAME:CEST
DTSTART:20270328T010000
END:DAYLIGHT
BEGIN:STANDARD
TZOFFSETFROM:+0200
TZOFFSETTO:+0100
TZNAME:CET
DTSTART:20271031T010000
END:STANDARD
END:VTIMEZONE
BEGIN:VEVENT
DTSTART;TZID=Europe/Paris:20260407T080000
DTEND;TZID=Europe/Paris:20260407T170000
DTSTAMP:20260421T202322
CREATED:20260202T145356Z
LAST-MODIFIED:20260202T145448Z
UID:1229-1775548800-1775581200@eglise-orthodoxe-nantes.fr
SUMMARY:7 Avril- 7 апреля
DESCRIPTION:7 avril. Annonciation de la Mère de Dieu (selon le calendrier julien)- PAS DE Liturgie \n7 апреля  .Благовещения Пресвятой Богородицы (по стар. стиле)- Нет литургии
URL:https://eglise-orthodoxe-nantes.fr/event/7-avril-7-%d0%b0%d0%bf%d1%80%d0%b5%d0%bb%d1%8f/
CATEGORIES:Agenda liturgique
END:VEVENT
END:VCALENDAR