BEGIN:VCALENDAR
VERSION:2.0
PRODID:-//Église orthodoxe de La Résurrection Nantes – Archevêché des églises orthodoxes de tradition russe en Europe occidentale -Patriarcat de Moscou - ECPv6.15.20//NONSGML v1.0//EN
CALSCALE:GREGORIAN
METHOD:PUBLISH
X-WR-CALNAME:Église orthodoxe de La Résurrection Nantes – Archevêché des églises orthodoxes de tradition russe en Europe occidentale -Patriarcat de Moscou
X-ORIGINAL-URL:https://eglise-orthodoxe-nantes.fr
X-WR-CALDESC:Évènements pour Église orthodoxe de La Résurrection Nantes – Archevêché des églises orthodoxes de tradition russe en Europe occidentale -Patriarcat de Moscou
REFRESH-INTERVAL;VALUE=DURATION:PT1H
X-Robots-Tag:noindex
X-PUBLISHED-TTL:PT1H
BEGIN:VTIMEZONE
TZID:Europe/Paris
BEGIN:DAYLIGHT
TZOFFSETFROM:+0100
TZOFFSETTO:+0200
TZNAME:CEST
DTSTART:20250330T010000
END:DAYLIGHT
BEGIN:STANDARD
TZOFFSETFROM:+0200
TZOFFSETTO:+0100
TZNAME:CET
DTSTART:20251026T010000
END:STANDARD
BEGIN:DAYLIGHT
TZOFFSETFROM:+0100
TZOFFSETTO:+0200
TZNAME:CEST
DTSTART:20260329T010000
END:DAYLIGHT
BEGIN:STANDARD
TZOFFSETFROM:+0200
TZOFFSETTO:+0100
TZNAME:CET
DTSTART:20261025T010000
END:STANDARD
BEGIN:DAYLIGHT
TZOFFSETFROM:+0100
TZOFFSETTO:+0200
TZNAME:CEST
DTSTART:20270328T010000
END:DAYLIGHT
BEGIN:STANDARD
TZOFFSETFROM:+0200
TZOFFSETTO:+0100
TZNAME:CET
DTSTART:20271031T010000
END:STANDARD
END:VTIMEZONE
BEGIN:VEVENT
DTSTART;TZID=Europe/Paris:20260409T100000
DTEND;TZID=Europe/Paris:20260409T170000
DTSTAMP:20260421T203025
CREATED:20260202T150845Z
LAST-MODIFIED:20260328T153255Z
UID:1235-1775728800-1775754000@eglise-orthodoxe-nantes.fr
SUMMARY:Grand Jeudi 9 avril- Великий Четверг 9 апреля
DESCRIPTION:Grande et semaine sainte de La passion- страстная седмица \nGrand Jeudi 9 avril- Великий Четверг 9 апреля\n10h00 Vêpres et Liturgie de saint Basile\, Sainte Cène\, puis catéchèse de Père Syméon sur l’Eucharistie. 10ч Вечерняя и литургия Василия Великого\, Тайная Вечер. затем катехизация отца Симеона о Евхаристии.\n18h00 Matines du Vendredi Saint\, Office des 12 Évangiles- 18ч Утреня Великой Пятницы со чтением12 Евангелия
URL:https://eglise-orthodoxe-nantes.fr/event/grand-jeudi-9-avril-%d0%b2%d0%b5%d0%bb%d0%b8%d0%ba%d0%b8%d0%b9-%d1%87%d0%b5%d1%82%d0%b2%d0%b5%d1%80%d0%b3-9-%d0%b0%d0%bf%d1%80%d0%b5%d0%bb%d1%8f/
LOCATION:Chapelle St Jean Bosco Nantes\, 17 Rue du Moulin des Carmes\, Nantes\, 44300\, France
CATEGORIES:Agenda liturgique
END:VEVENT
END:VCALENDAR