BEGIN:VCALENDAR
VERSION:2.0
PRODID:-//Église orthodoxe de La Résurrection Nantes – Archevêché des églises orthodoxes de tradition russe en Europe occidentale -Patriarcat de Moscou - ECPv6.15.20//NONSGML v1.0//EN
CALSCALE:GREGORIAN
METHOD:PUBLISH
X-ORIGINAL-URL:https://eglise-orthodoxe-nantes.fr
X-WR-CALDESC:Évènements pour Église orthodoxe de La Résurrection Nantes – Archevêché des églises orthodoxes de tradition russe en Europe occidentale -Patriarcat de Moscou
REFRESH-INTERVAL;VALUE=DURATION:PT1H
X-Robots-Tag:noindex
X-PUBLISHED-TTL:PT1H
BEGIN:VTIMEZONE
TZID:Europe/Paris
BEGIN:DAYLIGHT
TZOFFSETFROM:+0100
TZOFFSETTO:+0200
TZNAME:CEST
DTSTART:20250330T010000
END:DAYLIGHT
BEGIN:STANDARD
TZOFFSETFROM:+0200
TZOFFSETTO:+0100
TZNAME:CET
DTSTART:20251026T010000
END:STANDARD
BEGIN:DAYLIGHT
TZOFFSETFROM:+0100
TZOFFSETTO:+0200
TZNAME:CEST
DTSTART:20260329T010000
END:DAYLIGHT
BEGIN:STANDARD
TZOFFSETFROM:+0200
TZOFFSETTO:+0100
TZNAME:CET
DTSTART:20261025T010000
END:STANDARD
BEGIN:DAYLIGHT
TZOFFSETFROM:+0100
TZOFFSETTO:+0200
TZNAME:CEST
DTSTART:20270328T010000
END:DAYLIGHT
BEGIN:STANDARD
TZOFFSETFROM:+0200
TZOFFSETTO:+0100
TZNAME:CET
DTSTART:20271031T010000
END:STANDARD
END:VTIMEZONE
BEGIN:VEVENT
DTSTART;TZID=Europe/Paris:20260410T150000
DTEND;TZID=Europe/Paris:20260410T170000
DTSTAMP:20260421T203102
CREATED:20260202T151151Z
LAST-MODIFIED:20260202T151151Z
UID:1237-1775833200-1775840400@eglise-orthodoxe-nantes.fr
SUMMARY:Grand Vendredi 10 Avril- Великая Пятница 10 апреля
DESCRIPTION:Grande et semaine sainte de La passion- страстная седмица \nGrand Vendredi 10 Avril- Великая Пятница 10 апреля\n• 15h00 Vêpres de la mise au tombeau du Christ\, Epitaphios-  \n15 ч Вечерня Погребения Иисуса Христа выносом Плащаницы
URL:https://eglise-orthodoxe-nantes.fr/event/grand-vendredi-10-avril-%d0%b2%d0%b5%d0%bb%d0%b8%d0%ba%d0%b0%d1%8f-%d0%bf%d1%8f%d1%82%d0%bd%d0%b8%d1%86%d0%b0-10-%d0%b0%d0%bf%d1%80%d0%b5%d0%bb%d1%8f/
LOCATION:Chapelle St Jean Bosco Nantes\, 17 Rue du Moulin des Carmes\, Nantes\, 44300\, France
CATEGORIES:Agenda liturgique
END:VEVENT
END:VCALENDAR