BEGIN:VCALENDAR
VERSION:2.0
PRODID:-//Église orthodoxe de La Résurrection Nantes – Archevêché des églises orthodoxes de tradition russe en Europe occidentale -Patriarcat de Moscou - ECPv6.15.20//NONSGML v1.0//EN
CALSCALE:GREGORIAN
METHOD:PUBLISH
X-WR-CALNAME:Église orthodoxe de La Résurrection Nantes – Archevêché des églises orthodoxes de tradition russe en Europe occidentale -Patriarcat de Moscou
X-ORIGINAL-URL:https://eglise-orthodoxe-nantes.fr
X-WR-CALDESC:Évènements pour Église orthodoxe de La Résurrection Nantes – Archevêché des églises orthodoxes de tradition russe en Europe occidentale -Patriarcat de Moscou
REFRESH-INTERVAL;VALUE=DURATION:PT1H
X-Robots-Tag:noindex
X-PUBLISHED-TTL:PT1H
BEGIN:VTIMEZONE
TZID:Europe/Paris
BEGIN:DAYLIGHT
TZOFFSETFROM:+0100
TZOFFSETTO:+0200
TZNAME:CEST
DTSTART:20250330T010000
END:DAYLIGHT
BEGIN:STANDARD
TZOFFSETFROM:+0200
TZOFFSETTO:+0100
TZNAME:CET
DTSTART:20251026T010000
END:STANDARD
BEGIN:DAYLIGHT
TZOFFSETFROM:+0100
TZOFFSETTO:+0200
TZNAME:CEST
DTSTART:20260329T010000
END:DAYLIGHT
BEGIN:STANDARD
TZOFFSETFROM:+0200
TZOFFSETTO:+0100
TZNAME:CET
DTSTART:20261025T010000
END:STANDARD
BEGIN:DAYLIGHT
TZOFFSETFROM:+0100
TZOFFSETTO:+0200
TZNAME:CEST
DTSTART:20270328T010000
END:DAYLIGHT
BEGIN:STANDARD
TZOFFSETFROM:+0200
TZOFFSETTO:+0100
TZNAME:CET
DTSTART:20271031T010000
END:STANDARD
END:VTIMEZONE
BEGIN:VEVENT
DTSTART;TZID=Europe/Paris:20260411T090000
DTEND;TZID=Europe/Paris:20260411T210000
DTSTAMP:20260421T202410
CREATED:20260202T151531Z
LAST-MODIFIED:20260328T131834Z
UID:1239-1775898000-1775941200@eglise-orthodoxe-nantes.fr
SUMMARY:Grand Samedi 11 avril- Великая Суббота 11 апреля
DESCRIPTION:Grande et semaine sainte de La passion- страстная седмица \nGrand Samedi 11 avril- Великая Суббота 11 апреля\n09h00 Vêpres (15 paremies) et 1re Liturgie de la Résurrection. Вечерняя со чтением 15 паремии и литургия Воскресенья Господне \nBaptêmes\n19h-21h office de minuit\, confession. За утренняя\, исповедь.
URL:https://eglise-orthodoxe-nantes.fr/event/grand-samedi-11-avril-%d0%b2%d0%b5%d0%bb%d0%b8%d0%ba%d0%b0%d1%8f-%d1%81%d1%83%d0%b1%d0%b1%d0%be%d1%82%d0%b0-11-%d0%b0%d0%bf%d1%80%d0%b5%d0%bb%d1%8f/
LOCATION:Chapelle St Jean Bosco Nantes\, 17 Rue du Moulin des Carmes\, Nantes\, 44300\, France
CATEGORIES:Agenda liturgique
END:VEVENT
END:VCALENDAR