BEGIN:VCALENDAR
VERSION:2.0
PRODID:-//Église orthodoxe de La Résurrection Nantes – Archevêché des églises orthodoxes de tradition russe en Europe occidentale -Patriarcat de Moscou - ECPv6.15.20//NONSGML v1.0//EN
CALSCALE:GREGORIAN
METHOD:PUBLISH
X-WR-CALNAME:Église orthodoxe de La Résurrection Nantes – Archevêché des églises orthodoxes de tradition russe en Europe occidentale -Patriarcat de Moscou
X-ORIGINAL-URL:https://eglise-orthodoxe-nantes.fr
X-WR-CALDESC:Évènements pour Église orthodoxe de La Résurrection Nantes – Archevêché des églises orthodoxes de tradition russe en Europe occidentale -Patriarcat de Moscou
REFRESH-INTERVAL;VALUE=DURATION:PT1H
X-Robots-Tag:noindex
X-PUBLISHED-TTL:PT1H
BEGIN:VTIMEZONE
TZID:Europe/Paris
BEGIN:DAYLIGHT
TZOFFSETFROM:+0100
TZOFFSETTO:+0200
TZNAME:CEST
DTSTART:20250330T010000
END:DAYLIGHT
BEGIN:STANDARD
TZOFFSETFROM:+0200
TZOFFSETTO:+0100
TZNAME:CET
DTSTART:20251026T010000
END:STANDARD
BEGIN:DAYLIGHT
TZOFFSETFROM:+0100
TZOFFSETTO:+0200
TZNAME:CEST
DTSTART:20260329T010000
END:DAYLIGHT
BEGIN:STANDARD
TZOFFSETFROM:+0200
TZOFFSETTO:+0100
TZNAME:CET
DTSTART:20261025T010000
END:STANDARD
BEGIN:DAYLIGHT
TZOFFSETFROM:+0100
TZOFFSETTO:+0200
TZNAME:CEST
DTSTART:20270328T010000
END:DAYLIGHT
BEGIN:STANDARD
TZOFFSETFROM:+0200
TZOFFSETTO:+0100
TZNAME:CET
DTSTART:20271031T010000
END:STANDARD
END:VTIMEZONE
BEGIN:VEVENT
DTSTART;TZID=Europe/Paris:20260705T093000
DTEND;TZID=Europe/Paris:20260705T150000
DTSTAMP:20260422T003044
CREATED:20260420T175445Z
LAST-MODIFIED:20260420T175445Z
UID:1723-1783243800-1783263600@eglise-orthodoxe-nantes.fr
SUMMARY:Dimanche 5 juillet - Воскресенье 5 июля
DESCRIPTION:Dimanche 5 juillet – Воскресенье 5 июля \n 5- -ème Dim. ap. Pentecôte– -Неделя 5-я по Пятидесятнице \n8h30 installation de l’église avec Père Emmanuel et Père Syméon\, merci à toutes les personnes qui pourront venir aider\, merci à celles qui apporteront des fleurs. 8.30 утра Установка церкви с отцом Эммануилом\, спасибо всем\, кто может прийти и помочь\, спасибо тем\, кто принесет цветы. \n\n9h30 – 10h15 Confession – исповедь\n10h30 Divine Liturgie suivie d’agapes fraternelles\, chacun apporte un peu pour tous.\n10. 30 Божественная литургия\, за которой следуют братские трапезы\, каждый приносит немного для всех.\n\nLecture de l’épître du saint apôtre Paul aux Romains (du jour) (Ro X\,1-10)\nFrères\, le vœu de mon cœur et ma prière à Dieu pour les enfants d’Israël\, c’est qu’ils soient sauvés. Je leur rends le témoignage qu’ils ont du zèle pour Dieu\, mais sans intelligence : ne connaissant pas la justice de Dieu\, et cherchant à établir leur propre justice\, ils ne se sont pas soumis à la justice de Dieu ; car Christ est la fin de la loi\, pour la justification de tous ceux qui croient. En effet\, Moïse définit ainsi la justice qui vient de la loi : L’homme qui mettra ces choses en pratique vivra par elles. Mais voici comment parle la justice qui vient de la foi : Ne dis pas en ton cœur : « Qui montera au ciel ? » c’est en faire descendre Christ ; ou : « Qui descendra dans l’abîme ? » c’est faire remonter Christ d’entre les morts. Que dit-elle donc ? « La parole est près de toi\, dans ta bouche et dans ton cœur »\, or\, c’est la parole de la foi que nous prêchons. Si tu confesses de ta bouche le Seigneur Jésus\, et si tu crois dans ton cœur que Dieu l’a ressuscité des morts\, tu seras sauvé. Car c’est en croyant du cœur qu’on parvient à la justice\, et c’est en confessant de la bouche qu’on parvient au salut.\n(St Athanase l’Athonite) (Ga V\,22-VI\,2)\nFrères\, le fruit de l’Esprit\, c’est l’amour\, la joie\, la paix\, la patience\, la bonté\, la mansuétude\, la confiance dans les autres\, la douceur\, la tempérance ; la loi n’est pas contre ces choses. Ceux qui sont à Jésus Christ ont crucifié la chair avec ses passions et ses désirs. Si nous vivons par l’Esprit\, marchons aussi selon l’Esprit. Ne cherchons pas une vaine gloire\, en nous provoquant les uns les autres\, en nous portant envie les uns aux autres. Frères\, si un homme vient à être surpris en quelque faute\, vous qui êtes spirituels\, redressez-le avec un esprit de douceur. Prends garde à toi-même\, de peur que tu ne sois aussi tenté. Portez les fardeaux les uns des autres\, et vous accomplirez ainsi la loi de Christ. \nLecture de l’Évangile selon saint Matthieu (du jour) (Mt VIII\,28-IX\,1)\nComme Jésus était arrivé de l’autre côté de la mer\, au pays des Gadaréniens\, deux démoniaques\, sortant des sépulcres\, vinrent au-devant de lui. Ils étaient si furieux que personne n’osait passer par là. Et voici\, ils s’écrièrent : « Qu’y a-t-il entre nous et toi\, Fils de Dieu ? Es-tu venu ici pour nous tourmenter avant le temps ?  » Il y avait loin d’eux un grand troupeau de porcs en train de paître. Les démons priaient Jésus\, disant : « Si tu nous chasses\, envoie-nous dans ce troupeau de porcs. » Il leur dit : « Allez ! » Ils sortirent\, et entrèrent dans les porcs. Et voici\, tout le troupeau se précipita des pentes escarpées dans la mer\, et ils périrent dans les eaux. Ceux qui les faisaient paître s’enfuirent\, et allèrent dans la ville raconter tout ce qui s’était passé et ce qui était arrivé aux démoniaques. Alors toute la ville sortit à la rencontre de Jésus ; et\, dès qu’ils le virent\, ils le supplièrent de quitter leur territoire.\nJésus\, étant monté dans une barque\, re-traversa la mer\, et alla dans sa ville.\n(St Athanase l’Athonite) (Lc VI\,17-23)\nEn ce temps-là\, Jésus descendit avec eux\, et s’arrêta sur un plateau\, où se trouvaient une foule de ses disciples et une multitude du peuple de toute la Judée\, de Jérusalem\, et de la contrée maritime de Tyr et de Sidon. Ils étaient venus pour l’entendre\, et pour être guéris de leurs maladies. Ceux qui étaient tourmentés par des esprits impurs étaient guéris. Et toute la foule cherchait à le toucher\, parce qu’une force sortait de lui et les guérissait tous. Alors Jésus\, levant les yeux sur ses disciples\, dit :\n« Heureux vous qui êtes pauvres\, car le royaume de Dieu est à vous !\nHeureux vous qui avez faim maintenant\, car vous serez rassasiés !\nHeureux vous qui pleurez maintenant\, car vous serez dans la joie !\nHeureux serez-vous\, lorsque les hommes vous haïront\, lorsqu’on vous chassera\, vous outragera\, et qu’on rejettera votre nom comme infâme\, à cause du Fils de l’homme !\nRéjouissez-vous en ce jour-là et tressaillez d’allégresse\, parce que votre récompense sera grande dans le ciel ; car c’est ainsi que leurs pères traitaient les prophètes. » \n 
URL:https://eglise-orthodoxe-nantes.fr/event/dimanche-5-juillet-%d0%b2%d0%be%d1%81%d0%ba%d1%80%d0%b5%d1%81%d0%b5%d0%bd%d1%8c%d0%b5-5-%d0%b8%d1%8e%d0%bb%d1%8f/
LOCATION:Chapelle St Jean Bosco Nantes\, 17 Rue du Moulin des Carmes\, Nantes\, 44300\, France
CATEGORIES:Agenda liturgique
END:VEVENT
END:VCALENDAR